BEGIN:VCALENDAR
VERSION:2.0
PRODID:-//South Mountain Partnership - ECPv6.15.20//NONSGML v1.0//EN
CALSCALE:GREGORIAN
METHOD:PUBLISH
X-WR-CALNAME:South Mountain Partnership
X-ORIGINAL-URL:https://www.southmountainpartnership.org
X-WR-CALDESC:Events for South Mountain Partnership
REFRESH-INTERVAL;VALUE=DURATION:PT1H
X-Robots-Tag:noindex
X-PUBLISHED-TTL:PT1H
BEGIN:VTIMEZONE
TZID:America/New_York
BEGIN:DAYLIGHT
TZOFFSETFROM:-0500
TZOFFSETTO:-0400
TZNAME:EDT
DTSTART:20250309T070000
END:DAYLIGHT
BEGIN:STANDARD
TZOFFSETFROM:-0400
TZOFFSETTO:-0500
TZNAME:EST
DTSTART:20251102T060000
END:STANDARD
BEGIN:DAYLIGHT
TZOFFSETFROM:-0500
TZOFFSETTO:-0400
TZNAME:EDT
DTSTART:20260308T070000
END:DAYLIGHT
BEGIN:STANDARD
TZOFFSETFROM:-0400
TZOFFSETTO:-0500
TZNAME:EST
DTSTART:20261101T060000
END:STANDARD
BEGIN:DAYLIGHT
TZOFFSETFROM:-0500
TZOFFSETTO:-0400
TZNAME:EDT
DTSTART:20270314T070000
END:DAYLIGHT
BEGIN:STANDARD
TZOFFSETFROM:-0400
TZOFFSETTO:-0500
TZNAME:EST
DTSTART:20271107T060000
END:STANDARD
END:VTIMEZONE
BEGIN:VEVENT
DTSTART;TZID=America/New_York:20260406T183000
DTEND;TZID=America/New_York:20260406T193000
DTSTAMP:20260422T174755
CREATED:20260320T193859Z
LAST-MODIFIED:20260320T193900Z
UID:10002967-1775500200-1775503800@www.southmountainpartnership.org
SUMMARY:Coalition to Protect Franklin County Public Meeting-Transource
DESCRIPTION:The Coalition to Protect Franklin County is hosting this meeting to update concerned citizens on the current status of the impending Transource threat. RSVP here.
URL:https://www.southmountainpartnership.org/event/coalition-to-protect-franklin-county-public-meeting-transource/
LOCATION:New Franklin Ruritan Community Center\, 2500 New Franklin Rd.\, Chambersburg\, Pennsylvania\, 17202\, United States
ATTACH;FMTTYPE=image/jpeg:https://www.southmountainpartnership.org/wp-content/uploads/2026/03/Coalition-to-Protect-Franklin-County.jpg
END:VEVENT
END:VCALENDAR