BEGIN:VCALENDAR
VERSION:2.0
PRODID:-//South Mountain Partnership - ECPv6.15.20//NONSGML v1.0//EN
CALSCALE:GREGORIAN
METHOD:PUBLISH
X-WR-CALNAME:South Mountain Partnership
X-ORIGINAL-URL:https://www.southmountainpartnership.org
X-WR-CALDESC:Events for South Mountain Partnership
REFRESH-INTERVAL;VALUE=DURATION:PT1H
X-Robots-Tag:noindex
X-PUBLISHED-TTL:PT1H
BEGIN:VTIMEZONE
TZID:America/New_York
BEGIN:DAYLIGHT
TZOFFSETFROM:-0500
TZOFFSETTO:-0400
TZNAME:EDT
DTSTART:20250309T070000
END:DAYLIGHT
BEGIN:STANDARD
TZOFFSETFROM:-0400
TZOFFSETTO:-0500
TZNAME:EST
DTSTART:20251102T060000
END:STANDARD
BEGIN:DAYLIGHT
TZOFFSETFROM:-0500
TZOFFSETTO:-0400
TZNAME:EDT
DTSTART:20260308T070000
END:DAYLIGHT
BEGIN:STANDARD
TZOFFSETFROM:-0400
TZOFFSETTO:-0500
TZNAME:EST
DTSTART:20261101T060000
END:STANDARD
BEGIN:DAYLIGHT
TZOFFSETFROM:-0500
TZOFFSETTO:-0400
TZNAME:EDT
DTSTART:20270314T070000
END:DAYLIGHT
BEGIN:STANDARD
TZOFFSETFROM:-0400
TZOFFSETTO:-0500
TZNAME:EST
DTSTART:20271107T060000
END:STANDARD
END:VTIMEZONE
BEGIN:VEVENT
DTSTART;TZID=America/New_York:20260426T080000
DTEND;TZID=America/New_York:20260428T170000
DTSTAMP:20260420T074737
CREATED:20260130T213720Z
LAST-MODIFIED:20260130T213721Z
UID:10002839-1777190400-1777395600@www.southmountainpartnership.org
SUMMARY:PA Outdoor Economy Summit & Industry Expo
DESCRIPTION:Join us for the inaugural PA Outdoor Economy Summit & Industry Expo — where visionaries\, innovators\, and leaders across the outdoor recreation world come together to build the future of our state’s outdoor economy. \n\n\n\nHosted by the Outdoor Business Alliance of Pennsylvania\, this first-of-its-kind event is your chance to connect\, collaborate\, and create lasting impact. Whether you’re driving growth in parks and trails\, championing community development\, or leading outdoor-focused nonprofits\, this summit is where opportunities expand and partnerships take root. \n\n\n\nApril 26–28\, 2026The Penn Stater Hotel & Conference Center – State College\, PA \n\n\n\nImmerse yourself in inspiring keynotes\, interactive breakout sessions\, and outdoor adventures that celebrate the spirit of Pennsylvania’s great outdoors. You’ll leave with new insights\, valuable connections\, and a renewed sense of purpose. \n\n\n\nDon’t miss the launch of something big — the start of a stronger\, more connected outdoor economy for Pennsylvania. \n\n\n\nFind more information and register HERE.
URL:https://www.southmountainpartnership.org/event/pa-outdoor-economy-summit-industry-expo/
LOCATION:The Penn Stater Hotel & Conference Center\, 215 Innovation Boulevard\, State College\, Pennsylvania\, 16803\, United States
ATTACH;FMTTYPE=image/webp:https://www.southmountainpartnership.org/wp-content/uploads/2026/01/OBAPA-AbbreviatedLogo.webp
END:VEVENT
END:VCALENDAR