BEGIN:VCALENDAR
VERSION:2.0
PRODID:-//South Mountain Partnership - ECPv6.15.20//NONSGML v1.0//EN
CALSCALE:GREGORIAN
METHOD:PUBLISH
X-WR-CALNAME:South Mountain Partnership
X-ORIGINAL-URL:https://www.southmountainpartnership.org
X-WR-CALDESC:Events for South Mountain Partnership
REFRESH-INTERVAL;VALUE=DURATION:PT1H
X-Robots-Tag:noindex
X-PUBLISHED-TTL:PT1H
BEGIN:VTIMEZONE
TZID:America/New_York
BEGIN:DAYLIGHT
TZOFFSETFROM:-0500
TZOFFSETTO:-0400
TZNAME:EDT
DTSTART:20250309T070000
END:DAYLIGHT
BEGIN:STANDARD
TZOFFSETFROM:-0400
TZOFFSETTO:-0500
TZNAME:EST
DTSTART:20251102T060000
END:STANDARD
BEGIN:DAYLIGHT
TZOFFSETFROM:-0500
TZOFFSETTO:-0400
TZNAME:EDT
DTSTART:20260308T070000
END:DAYLIGHT
BEGIN:STANDARD
TZOFFSETFROM:-0400
TZOFFSETTO:-0500
TZNAME:EST
DTSTART:20261101T060000
END:STANDARD
BEGIN:DAYLIGHT
TZOFFSETFROM:-0500
TZOFFSETTO:-0400
TZNAME:EDT
DTSTART:20270314T070000
END:DAYLIGHT
BEGIN:STANDARD
TZOFFSETFROM:-0400
TZOFFSETTO:-0500
TZNAME:EST
DTSTART:20271107T060000
END:STANDARD
END:VTIMEZONE
BEGIN:VEVENT
DTSTART;TZID=America/New_York:20260425T140000
DTEND;TZID=America/New_York:20260425T153000
DTSTAMP:20260422T063356
CREATED:20260218T214243Z
LAST-MODIFIED:20260218T214319Z
UID:10002895-1777125600-1777131000@www.southmountainpartnership.org
SUMMARY:Invasive Plants and Forests
DESCRIPTION:This workshop explains why invasive plants are threats to forest health\, how to identify some of the most common invasive terrestrial plants\, and how to prevent and respond to invasive plants in woodlands. This workshop is intended for woodland owners\, as well as members of the public who want to learn more about invasive plants. \n\n\n\nFree and open to the public. \n\n\n\nFind more information and register HERE.
URL:https://www.southmountainpartnership.org/event/invasive-plants-and-forests/
LOCATION:Strawberry Hill Foundation\, 1537 Mt Hope Rd.\, Fairfield\, Pennsylvania\, 17320\, United States
ATTACH;FMTTYPE=image/png:https://www.southmountainpartnership.org/wp-content/uploads/2023/03/strawberry-hill.png
ORGANIZER;CN="Strawberry Hill":MAILTO:info@strawberryhill.org
END:VEVENT
BEGIN:VEVENT
DTSTART;TZID=America/New_York:20260426T150000
DTEND;TZID=America/New_York:20260426T163000
DTSTAMP:20260422T063356
CREATED:20260327T201614Z
LAST-MODIFIED:20260327T201615Z
UID:10003025-1777215600-1777221000@www.southmountainpartnership.org
SUMMARY:Family Mindfulness with Soulshine by Shannon
DESCRIPTION:Join us for an outdoor sound mediation session designed for busy families! Discover how sound meditation can restore your body’s energy\, improve focus\, and develop a sense of togetherness with your loved ones by promoting emotional wellbeing and connection. \n\n\n\nFind more information and register HERE.
URL:https://www.southmountainpartnership.org/event/family-mindfulness-with-soulshine-by-shannon/
LOCATION:Strawberry Hill Foundation\, 1537 Mt Hope Rd.\, Fairfield\, Pennsylvania\, 17320\, United States
ATTACH;FMTTYPE=image/png:https://www.southmountainpartnership.org/wp-content/uploads/2023/03/strawberry-hill.png
ORGANIZER;CN="Strawberry Hill":MAILTO:info@strawberryhill.org
END:VEVENT
BEGIN:VEVENT
DTSTART;TZID=America/New_York:20260427T093000
DTEND;TZID=America/New_York:20260427T153000
DTSTAMP:20260422T063356
CREATED:20260327T201749Z
LAST-MODIFIED:20260327T201750Z
UID:10003026-1777282200-1777303800@www.southmountainpartnership.org
SUMMARY:Woodlanders Homeschool Teen Days
DESCRIPTION:Animals are smarter than we know! Join us for a day of exploring animal intelligence and the unique abilities of some of our more common reptile and amphibian friends. We’ll meet Shelly\, Strawberry Hill’s spotted turtle Animal Ambassador. We’ll discuss turtles’ natural abilities to solve problems and maneuver through complicated landscapes. Then we’ll design and build a maze to test Shelly’s intelligence! We’ll also meet Todd\, Strawberry Hill’s toad Animal Ambassador to learn all about the mechanics of toads’ movement. We’ll put Todd’s mobility to the test as we design and build an obstacle course for our small friend. \n\n\n\nEach day will have two sessions – a morning session from 9:30am-12pm and an afternoon session from 1-3:30pm. Families can sign up for morning session\, afternoon session\, or both! Please note this is not a drop-off program and caregivers must remain on campus with their teens. \n\n\n\n*Younger siblings are welcome but please keep in mind that the day’s activities are geared toward teens ages 13 and up. \n\n\n\nRegister HERE.
URL:https://www.southmountainpartnership.org/event/woodlanders-homeschool-teen-days-3/
LOCATION:Strawberry Hill Foundation\, 1537 Mt Hope Rd.\, Fairfield\, Pennsylvania\, 17320\, United States
ATTACH;FMTTYPE=image/png:https://www.southmountainpartnership.org/wp-content/uploads/2023/03/strawberry-hill.png
ORGANIZER;CN="Strawberry Hill":MAILTO:info@strawberryhill.org
END:VEVENT
BEGIN:VEVENT
DTSTART;TZID=America/New_York:20260507T180000
DTEND;TZID=America/New_York:20260507T210000
DTSTAMP:20260422T063356
CREATED:20260327T192429Z
LAST-MODIFIED:20260327T192430Z
UID:10003009-1778176800-1778187600@www.southmountainpartnership.org
SUMMARY:A Night for Nature Dinner & Auction
DESCRIPTION:Mark your calendars for a “blast to the past” good time as we celebrate 40 years of environmental education in South Central PA! Our “Back to the 80s” themed dinner & auction will capture the essence of our founding in 1986 and our work over the past 4 decades. Find more information and purchase tickets HERE.
URL:https://www.southmountainpartnership.org/event/a-night-for-nature-dinner-auction-2/
LOCATION:The Lodges at Gettysburg\, 685 Camp Gettysburg Rd.\, Gettysburg\, Pennsylvania\, 17325\, United States
ATTACH;FMTTYPE=image/png:https://www.southmountainpartnership.org/wp-content/uploads/2023/03/strawberry-hill.png
ORGANIZER;CN="Strawberry Hill":MAILTO:info@strawberryhill.org
END:VEVENT
END:VCALENDAR