BEGIN:VCALENDAR
VERSION:2.0
PRODID:-//South Mountain Partnership - ECPv6.15.20//NONSGML v1.0//EN
CALSCALE:GREGORIAN
METHOD:PUBLISH
X-WR-CALNAME:South Mountain Partnership
X-ORIGINAL-URL:https://www.southmountainpartnership.org
X-WR-CALDESC:Events for South Mountain Partnership
REFRESH-INTERVAL;VALUE=DURATION:PT1H
X-Robots-Tag:noindex
X-PUBLISHED-TTL:PT1H
BEGIN:VTIMEZONE
TZID:America/New_York
BEGIN:DAYLIGHT
TZOFFSETFROM:-0500
TZOFFSETTO:-0400
TZNAME:EDT
DTSTART:20230312T070000
END:DAYLIGHT
BEGIN:STANDARD
TZOFFSETFROM:-0400
TZOFFSETTO:-0500
TZNAME:EST
DTSTART:20231105T060000
END:STANDARD
BEGIN:DAYLIGHT
TZOFFSETFROM:-0500
TZOFFSETTO:-0400
TZNAME:EDT
DTSTART:20240310T070000
END:DAYLIGHT
BEGIN:STANDARD
TZOFFSETFROM:-0400
TZOFFSETTO:-0500
TZNAME:EST
DTSTART:20241103T060000
END:STANDARD
BEGIN:DAYLIGHT
TZOFFSETFROM:-0500
TZOFFSETTO:-0400
TZNAME:EDT
DTSTART:20250309T070000
END:DAYLIGHT
BEGIN:STANDARD
TZOFFSETFROM:-0400
TZOFFSETTO:-0500
TZNAME:EST
DTSTART:20251102T060000
END:STANDARD
END:VTIMEZONE
BEGIN:VEVENT
DTSTART;TZID=America/New_York:20240415T110000
DTEND;TZID=America/New_York:20240415T143000
DTSTAMP:20260422T205254
CREATED:20240301T222348Z
LAST-MODIFIED:20240301T222351Z
UID:10001244-1713178800-1713191400@www.southmountainpartnership.org
SUMMARY:Homeschool Days - All About Birds
DESCRIPTION:Birds are incredible engineers who have just the right “tools” for the job! Spend the morning discovering the process and ingenuity behind birds’ marvelous creations! \n\n\n\nLater in the day\, we’ll learn what the spring migration means to our area. Birders of all ages are putting their Citizen Scientist skill to use. Break out the binoculars and join us we hit the trails in search of birds on the move! \n\n\n\nRecommended for ages 5-12 years but all ages welcome! \n\n\n\nProgram schedule: \n\n\n\n11am-12:15pm – Bird “Tools”12:15-1pm – lunch on your own1-2:30pm – Citizen Science & the Spring Migration$20/participant over the age of 4 \n\n\n\nClick here to register! \n\n\n\nPlease note this is not a drop-off event
URL:https://www.southmountainpartnership.org/event/homeschool-days-all-about-birds/
LOCATION:Strawberry Hill Foundation\, 1537 Mt Hope Rd.\, Fairfield\, Pennsylvania\, 17320\, United States
ATTACH;FMTTYPE=image/png:https://www.southmountainpartnership.org/wp-content/uploads/2023/03/strawberry-hill.png
ORGANIZER;CN="Strawberry Hill":MAILTO:info@strawberryhill.org
END:VEVENT
BEGIN:VEVENT
DTSTART;TZID=America/New_York:20240413T130000
DTEND;TZID=America/New_York:20240413T140000
DTSTAMP:20260422T205254
CREATED:20240301T222137Z
LAST-MODIFIED:20240301T222139Z
UID:10001243-1713013200-1713016800@www.southmountainpartnership.org
SUMMARY:Wild Edibles with Debbie Naha-Koretzky\, part 1
DESCRIPTION:Join Debbie Naha-Koretzky\, “The Wild Edibles Lady\,” for a three-part foraging adventure to discover the edible plants of our area. The program will include a slide show followed by a foraging walk\, and a taste of wild tea. \n\n\n\nSigned copies of her book\, Foraging Pennsylvania and New Jersey (2021\, Falcon Guides)\, will be available. \n\n\n\nDebbie is a registered dietitian/nutritionist\, Rutgers Master Gardener\, Pennsylvania Master Naturalist\, certified science teacher\, and wild foods author. She has conducted countless foraging programs for state organizations\, environmental centers\, native plant societies\, state parks and more. She received her master’s degree in Clinical Nutrition from New York University. This specialized training allows for a unique approach to wild edible plants. \n\n\n\nThe program will cover plant identification\, safety\, look-alike plants\, sustainable harvesting\, cooking with wild plants\, and of course\, nutrition. \n\n\n\nRegister HERE.
URL:https://www.southmountainpartnership.org/event/wild-edibles-with-debbie-naha-koretzky-part-1/
LOCATION:Strawberry Hill Foundation\, 1537 Mt Hope Rd.\, Fairfield\, Pennsylvania\, 17320\, United States
ATTACH;FMTTYPE=image/png:https://www.southmountainpartnership.org/wp-content/uploads/2023/03/strawberry-hill.png
ORGANIZER;CN="Strawberry Hill":MAILTO:info@strawberryhill.org
END:VEVENT
BEGIN:VEVENT
DTSTART;TZID=America/New_York:20240406T130000
DTEND;TZID=America/New_York:20240406T140000
DTSTAMP:20260422T205254
CREATED:20240301T221957Z
LAST-MODIFIED:20240301T221959Z
UID:10001242-1712408400-1712412000@www.southmountainpartnership.org
SUMMARY:PA Master Gardener Presents: Native Bees
DESCRIPTION:Many of us have heard about the decline of honeybees and the impact it has on our food system. However\, our native bees are great pollinators and have stepped up to the plate! Master Gardener Pam Haze will talk about our native bees\, how they live and how they pollinate our plants. She will talk about ways we can increase the native bee population by the types of plants we choose. \n\n\n\nPam Haze is a Penn State Master Gardener. She trained as a Master Gardener in 2016. Her specialty is native bees\, and she continues to learn about the plant and bee interactions. Her passion is native plants and their impact on our native bee population. \n\n\n\nRegister HERE.
URL:https://www.southmountainpartnership.org/event/pa-master-gardener-presents-native-bees/
LOCATION:Strawberry Hill Foundation\, 1537 Mt Hope Rd.\, Fairfield\, Pennsylvania\, 17320\, United States
ATTACH;FMTTYPE=image/png:https://www.southmountainpartnership.org/wp-content/uploads/2023/03/strawberry-hill.png
ORGANIZER;CN="Strawberry Hill":MAILTO:info@strawberryhill.org
END:VEVENT
BEGIN:VEVENT
DTSTART;TZID=America/New_York:20240401T110000
DTEND;TZID=America/New_York:20240401T143000
DTSTAMP:20260422T205254
CREATED:20240203T024906Z
LAST-MODIFIED:20240203T024908Z
UID:10001226-1711969200-1711981800@www.southmountainpartnership.org
SUMMARY:Homeschool Days - Fun with Frog & Toad
DESCRIPTION:Frog and Toad are literary best friends but they’re very different. Explore the science behind these fascinating amphibians and discover their unique adaptations that make both incredible creatures. Make your very own Toad Abode to take home! \n\n\n\nRecommended for ages 5-12 years but all ages welcome! \n\n\n\nProgram schedule: \n\n\n\n11am-12:15pm – Hop\, Jump\, and Run: Unique Adaptations \n\n\n\n12:15-1pm – lunch on your own \n\n\n\n1-2:30pm – Frog and Toad Hike with Make and Take: Toad Abode \n\n\n\n$20/participant over the age of 4. Register here.
URL:https://www.southmountainpartnership.org/event/homeschool-days-fun-with-frog-toad/
ATTACH;FMTTYPE=image/png:https://www.southmountainpartnership.org/wp-content/uploads/2023/03/strawberry-hill.png
ORGANIZER;CN="Strawberry Hill":MAILTO:info@strawberryhill.org
END:VEVENT
BEGIN:VEVENT
DTSTART;TZID=America/New_York:20240325T193000
DTEND;TZID=America/New_York:20240325T203000
DTSTAMP:20260422T205254
CREATED:20240119T220320Z
LAST-MODIFIED:20240119T220321Z
UID:10001199-1711395000-1711398600@www.southmountainpartnership.org
SUMMARY:Worm Moon Hike
DESCRIPTION:Join for a free nighttime nature hike under the Full Worm Moon! \n\n\n\nThe forest lightly slumbers but she’s beginning to stir. The cold\, strange days of late winter are fading into memory. Join to search for signs of spring hiding amongst the leaves and snow. \n\n\n\nGuided hike will start at 7:30pm and last about 60 minutes. There will be a limited number of flashlights to handout so please bring one if you can. Snow and/or ice is likely so please plan and dress accordingly. \n\n\n\nFor Scouts: This program meets the requirements for the following badges – Junior Trail Adventure\, Senior Science Expert\, Brownies Bugs\, and Cadette Night Owl. You will receive a certificate of completion from Strawberry Hill upon request. \n\n\n\nEmail Anne at education@strawberryhill.org to register. Space is limited to 15 participants. \n\n\n\nDue to the nature of a nighttime hike\, this activity is recommended for older children who are comfortable walking in the woods at night.
URL:https://www.southmountainpartnership.org/event/worm-moon-hike/
LOCATION:Strawberry Hill Foundation\, 1537 Mt Hope Rd.\, Fairfield\, Pennsylvania\, 17320\, United States
ATTACH;FMTTYPE=image/png:https://www.southmountainpartnership.org/wp-content/uploads/2023/03/strawberry-hill.png
ORGANIZER;CN="Strawberry Hill":MAILTO:info@strawberryhill.org
END:VEVENT
BEGIN:VEVENT
DTSTART;TZID=America/New_York:20240323T190000
DTEND;TZID=America/New_York:20240323T210000
DTSTAMP:20260422T205254
CREATED:20240119T220031Z
LAST-MODIFIED:20240119T220032Z
UID:10001198-1711220400-1711227600@www.southmountainpartnership.org
SUMMARY:A Mount Hope Murder Mystery
DESCRIPTION:Mr. Andrew Kendrick is alerted by a terrible scream. He rushes into the house but his wife\, Maria\, is nowhere to be found. Then he hears it – the terrible thump thump thump of something heavy falling down the stairs. He rushes to help but is too late. The body of his dear wife lies at the bottom of the staircase\, unmoving. He calls 911 but when the police arrive\, all eyes turn to Andrew\, the only other creature in the house who could have caused Maria’s fatal fall. \n\n\n\nOr is he? \n\n\n\nJoin us as we unravel the mystery behind this shocking tale of love\, betrayal\, and prejudice. Explore the clues as they lead us to a slew of remarkable secondary suspects – animals of the night. \n\n\n\n*Inspired by true events \n\n\n\nRegister here.  \n\n\n\nDue to the nature of this program\, it is recommended for ages 14 and up.
URL:https://www.southmountainpartnership.org/event/a-mount-hope-murder-mystery/
LOCATION:Strawberry Hill Foundation\, 1537 Mt Hope Rd.\, Fairfield\, Pennsylvania\, 17320\, United States
ATTACH;FMTTYPE=image/png:https://www.southmountainpartnership.org/wp-content/uploads/2023/03/strawberry-hill.png
ORGANIZER;CN="Strawberry Hill":MAILTO:info@strawberryhill.org
END:VEVENT
BEGIN:VEVENT
DTSTART;TZID=America/New_York:20240316T110000
DTEND;TZID=America/New_York:20240316T114500
DTSTAMP:20260422T205254
CREATED:20240222T001305Z
LAST-MODIFIED:20240222T001308Z
UID:10001233-1710586800-1710589500@www.southmountainpartnership.org
SUMMARY:The Language of the Land: Communicating with the Spaces Around Us
DESCRIPTION:How can we humans connect and communicate with the lands near us? Forests\, rural areas\, farmlands\, battlegrounds\, cities – all have a symbolic communication system that can be learned. Join us as we dive into techniques that help provide a personal system for creating a language that’s more than just spontaneous intuition. We’ll explore the data\, both repeatable and observable (via omens\, the behavior of flora and fauna\, etc.). Discussion of the evolution of a land area will also be included\, as well as the careful debate of what really is an “invasive” species? \n\n\n\nTo register\, click here. \n\n\n\nAbout the presenter: \n\n\n\nRev. Monika Kojote is a Druid shaman serving the North American\, Ireland\, European Union\, and United Kingdom communities for over 14 years. Monika uses she/her pronouns and is a member of the hearing-impaired community (ASL-inclusive). In her practice\, she works consistently to create safe & sacred space for all marginalized and disabled populations. Her education & experience ensure that she is a trauma-informed clergy person and healer. \n\n\n\nAlthough she is based in Washington County (Maryland)\, her in-person services and workshops span the East Coast & Mid-Atlantic regions. Her practice includes individual and group/family ceremonies\, as well as house clearings\, journey workshops\, spiritual mentoring\, divination\, and clergy services(weddings\, baby blessings\, end-of-life care\, and funerals). \n\n\n\nMonika uses the term “shaman” as a job title\, describing healing that occurs in ethical relationship with Spirits. Her ancestry and personal spirituality reflect the practices of the Indo-Europeans; she follows a Druid path. \n\n\n\nMonika received her master’s degree in forensic psychology in 2005\, and has over 20 years experience working in the public domain of health & human services. She has extensive spiritual training\, including her master level certification in Usui Reiki\, completion of a 2.5 year program from Gryphons Grove School of Shamanism (now closed)\, soul retrieval\, Druid Apprentice training programs from AODA \, and training in Nepalese healing techniques from her jhankri\, Bhola Banstola.
URL:https://www.southmountainpartnership.org/event/the-language-of-the-land-communicating-with-the-spaces-around-us/
ATTACH;FMTTYPE=image/png:https://www.southmountainpartnership.org/wp-content/uploads/2023/03/strawberry-hill.png
ORGANIZER;CN="Strawberry Hill":MAILTO:info@strawberryhill.org
END:VEVENT
BEGIN:VEVENT
DTSTART;TZID=America/New_York:20240306T110000
DTEND;TZID=America/New_York:20240306T143000
DTSTAMP:20260422T205254
CREATED:20240119T215723Z
LAST-MODIFIED:20240119T215724Z
UID:10001197-1709722800-1709735400@www.southmountainpartnership.org
SUMMARY:Homeschool Maple Sugaring Demonstration
DESCRIPTION:Have you ever wanted to learn how to make maple syrup? Or wondered if your trees are the “right” kind of maple? Join Strawberry Hill Naturalists as they introduce you to the process of making maple syrup\, from tap to table. Participants learn the history of maple sugaring in Pennsylvania\, how changes in weather patterns can affect the maple sugaring season\, how to identify the characteristics that distinguish different types of maple trees\, how to tap\, and the supplies required to process sap into maple syrup. \n\n\n\nThere are two program times to choose from: 11am & 2pm. Each program runs about 90 minutes and is entirely outdoors. Please dress warmly! \n\n\n\nChildren under 3 free. Register here.
URL:https://www.southmountainpartnership.org/event/homeschool-maple-sugaring-demonstration/
LOCATION:Strawberry Hill Foundation\, 1537 Mt Hope Rd.\, Fairfield\, Pennsylvania\, 17320\, United States
ATTACH;FMTTYPE=image/png:https://www.southmountainpartnership.org/wp-content/uploads/2023/03/strawberry-hill.png
ORGANIZER;CN="Strawberry Hill":MAILTO:info@strawberryhill.org
END:VEVENT
BEGIN:VEVENT
DTSTART;TZID=America/New_York:20240302T080000
DTEND;TZID=America/New_York:20240303T130000
DTSTAMP:20260422T205254
CREATED:20240119T215346Z
LAST-MODIFIED:20240119T215347Z
UID:10001196-1709366400-1709470800@www.southmountainpartnership.org
SUMMARY:Mount Hope Maple Madness 2024
DESCRIPTION:A hands-on look at the history\, culture\, and science of maple sugaring\, paired with a delicious pancake breakfast – what could be sweeter? Immerse yourself in the history\, culture\, science and fun of maple sugaring while still enjoying a traditional pancake breakfast with friends old and new.  \n\n\n\nSpace is limited! Purchase tickets and find more information here.
URL:https://www.southmountainpartnership.org/event/mount-hope-maple-madness-2024/
LOCATION:Camp Eder\, 914 Mt. Hope Road\, Fairfield\, Pennsylvania\, 17320\, United States
ATTACH;FMTTYPE=image/png:https://www.southmountainpartnership.org/wp-content/uploads/2023/03/strawberry-hill.png
ORGANIZER;CN="Strawberry Hill":MAILTO:info@strawberryhill.org
END:VEVENT
END:VCALENDAR