BEGIN:VCALENDAR
VERSION:2.0
PRODID:-//South Mountain Partnership - ECPv6.15.20//NONSGML v1.0//EN
CALSCALE:GREGORIAN
METHOD:PUBLISH
X-WR-CALNAME:South Mountain Partnership
X-ORIGINAL-URL:https://www.southmountainpartnership.org
X-WR-CALDESC:Events for South Mountain Partnership
REFRESH-INTERVAL;VALUE=DURATION:PT1H
X-Robots-Tag:noindex
X-PUBLISHED-TTL:PT1H
BEGIN:VTIMEZONE
TZID:America/New_York
BEGIN:DAYLIGHT
TZOFFSETFROM:-0500
TZOFFSETTO:-0400
TZNAME:EDT
DTSTART:20240310T070000
END:DAYLIGHT
BEGIN:STANDARD
TZOFFSETFROM:-0400
TZOFFSETTO:-0500
TZNAME:EST
DTSTART:20241103T060000
END:STANDARD
BEGIN:DAYLIGHT
TZOFFSETFROM:-0500
TZOFFSETTO:-0400
TZNAME:EDT
DTSTART:20250309T070000
END:DAYLIGHT
BEGIN:STANDARD
TZOFFSETFROM:-0400
TZOFFSETTO:-0500
TZNAME:EST
DTSTART:20251102T060000
END:STANDARD
BEGIN:DAYLIGHT
TZOFFSETFROM:-0500
TZOFFSETTO:-0400
TZNAME:EDT
DTSTART:20260308T070000
END:DAYLIGHT
BEGIN:STANDARD
TZOFFSETFROM:-0400
TZOFFSETTO:-0500
TZNAME:EST
DTSTART:20261101T060000
END:STANDARD
END:VTIMEZONE
BEGIN:VEVENT
DTSTART;TZID=America/New_York:20250501T180000
DTEND;TZID=America/New_York:20250501T210000
DTSTAMP:20260421T082651
CREATED:20250416T222322Z
LAST-MODIFIED:20250416T222323Z
UID:10002141-1746122400-1746133200@www.southmountainpartnership.org
SUMMARY:A Night for Nature Dinner & Auction
DESCRIPTION:Join your fellow Nature Champions for an evening out featuring delicious food\, seasonal drinks\, and incredible items up for auction\, all benefitting Nature Education at Strawberry Hill. \n\n\n\nFind more information and register HERE.
URL:https://www.southmountainpartnership.org/event/a-night-for-nature-dinner-auction/
LOCATION:The Lodges at Gettysburg\, 685 Camp Gettysburg Rd.\, Gettysburg\, Pennsylvania\, 17325\, United States
ATTACH;FMTTYPE=image/png:https://www.southmountainpartnership.org/wp-content/uploads/2023/03/strawberry-hill.png
ORGANIZER;CN="Strawberry Hill":MAILTO:info@strawberryhill.org
END:VEVENT
END:VCALENDAR